BEGIN:VCALENDAR
VERSION:2.0
PRODID:-//City of Collins - ECPv6.15.13.1//NONSGML v1.0//EN
CALSCALE:GREGORIAN
METHOD:PUBLISH
X-WR-CALNAME:City of Collins
X-ORIGINAL-URL:https://cityofcollins.com
X-WR-CALDESC:Events for City of Collins
REFRESH-INTERVAL;VALUE=DURATION:PT1H
X-Robots-Tag:noindex
X-PUBLISHED-TTL:PT1H
BEGIN:VTIMEZONE
TZID:America/Chicago
BEGIN:DAYLIGHT
TZOFFSETFROM:-0600
TZOFFSETTO:-0500
TZNAME:CDT
DTSTART:20230312T080000
END:DAYLIGHT
BEGIN:STANDARD
TZOFFSETFROM:-0500
TZOFFSETTO:-0600
TZNAME:CST
DTSTART:20231105T070000
END:STANDARD
BEGIN:DAYLIGHT
TZOFFSETFROM:-0600
TZOFFSETTO:-0500
TZNAME:CDT
DTSTART:20240310T080000
END:DAYLIGHT
BEGIN:STANDARD
TZOFFSETFROM:-0500
TZOFFSETTO:-0600
TZNAME:CST
DTSTART:20241103T070000
END:STANDARD
BEGIN:DAYLIGHT
TZOFFSETFROM:-0600
TZOFFSETTO:-0500
TZNAME:CDT
DTSTART:20250309T080000
END:DAYLIGHT
BEGIN:STANDARD
TZOFFSETFROM:-0500
TZOFFSETTO:-0600
TZNAME:CST
DTSTART:20251102T070000
END:STANDARD
END:VTIMEZONE
BEGIN:VEVENT
DTSTART;TZID=America/Chicago:20241001T180000
DTEND;TZID=America/Chicago:20241001T190000
DTSTAMP:20260420T050802
CREATED:20240919T133553Z
LAST-MODIFIED:20240919T133553Z
UID:7472-1727805600-1727809200@cityofcollins.com
SUMMARY:Mayor & Aldermen Board Meeting
DESCRIPTION:
URL:https://cityofcollins.com/event/mayor-aldermen-board-meeting-10-1/
LOCATION:City Hall
END:VEVENT
BEGIN:VEVENT
DTSTART;TZID=America/Chicago:20241007T120000
DTEND;TZID=America/Chicago:20241007T123000
DTSTAMP:20260420T050802
CREATED:20240919T133155Z
LAST-MODIFIED:20240919T133215Z
UID:7464-1728302400-1728304200@cityofcollins.com
SUMMARY:Testing Weather Sirens
DESCRIPTION:
URL:https://cityofcollins.com/event/testing-weather-sirens-10-7/
END:VEVENT
BEGIN:VEVENT
DTSTART;TZID=America/Chicago:20241009T100000
DTEND;TZID=America/Chicago:20241009T110000
DTSTAMP:20260420T050802
CREATED:20240919T133849Z
LAST-MODIFIED:20240919T133849Z
UID:7476-1728468000-1728471600@cityofcollins.com
SUMMARY:Municipal Court Trial
DESCRIPTION:
URL:https://cityofcollins.com/event/municipal-court-trial-10-9/
LOCATION:Covington County Courthouse\, Main Street\, Collins\, MS\, 39428
END:VEVENT
BEGIN:VEVENT
DTSTART;TZID=America/Chicago:20241014T120000
DTEND;TZID=America/Chicago:20241014T123000
DTSTAMP:20260420T050802
CREATED:20240919T133302Z
LAST-MODIFIED:20240919T133302Z
UID:7466-1728907200-1728909000@cityofcollins.com
SUMMARY:Testing Weather Sirens
DESCRIPTION:
URL:https://cityofcollins.com/event/testing-weather-sirens-10-14/
END:VEVENT
BEGIN:VEVENT
DTSTART;TZID=America/Chicago:20241015T180000
DTEND;TZID=America/Chicago:20241015T190000
DTSTAMP:20260420T050802
CREATED:20240919T133651Z
LAST-MODIFIED:20240919T133651Z
UID:7474-1729015200-1729018800@cityofcollins.com
SUMMARY:Mayor & Aldermen Board Meeting
DESCRIPTION:
URL:https://cityofcollins.com/event/mayor-aldermen-board-meeting-10-15/
LOCATION:City Hall
END:VEVENT
BEGIN:VEVENT
DTSTART;TZID=America/Chicago:20241016T110000
DTEND;TZID=America/Chicago:20241016T120000
DTSTAMP:20260420T050802
CREATED:20240919T133958Z
LAST-MODIFIED:20240919T133958Z
UID:7478-1729076400-1729080000@cityofcollins.com
SUMMARY:Municipal Plea Hearing
DESCRIPTION:
URL:https://cityofcollins.com/event/municipal-plea-hearing-10-16/
LOCATION:Covington County Courthouse\, Main Street\, Collins\, MS\, 39428
END:VEVENT
BEGIN:VEVENT
DTSTART;TZID=America/Chicago:20241021T120000
DTEND;TZID=America/Chicago:20241021T123000
DTSTAMP:20260420T050802
CREATED:20240919T133356Z
LAST-MODIFIED:20240919T133356Z
UID:7468-1729512000-1729513800@cityofcollins.com
SUMMARY:Testing Weather Sirens
DESCRIPTION:
URL:https://cityofcollins.com/event/testing-weather-sirens-10-21/
END:VEVENT
BEGIN:VEVENT
DTSTART;TZID=America/Chicago:20241028T120000
DTEND;TZID=America/Chicago:20241028T123000
DTSTAMP:20260420T050802
CREATED:20240919T133432Z
LAST-MODIFIED:20240919T133432Z
UID:7470-1730116800-1730118600@cityofcollins.com
SUMMARY:Testing Weather Sirens
DESCRIPTION:
URL:https://cityofcollins.com/event/testing-weather-sirens-10-28/
END:VEVENT
END:VCALENDAR